BEGIN:VCALENDAR
VERSION:2.0
PRODID:-//OctoGate - Einfach - Sicher - Geschützt - ECPv6.15.20//NONSGML v1.0//EN
CALSCALE:GREGORIAN
METHOD:PUBLISH
X-WR-CALNAME:OctoGate - Einfach - Sicher - Geschützt
X-ORIGINAL-URL:https://www.octogate.com/en_us
X-WR-CALDESC:Events for OctoGate - Einfach - Sicher - Geschützt
REFRESH-INTERVAL;VALUE=DURATION:PT1H
X-Robots-Tag:noindex
X-PUBLISHED-TTL:PT1H
BEGIN:VTIMEZONE
TZID:Europe/Berlin
BEGIN:DAYLIGHT
TZOFFSETFROM:+0100
TZOFFSETTO:+0200
TZNAME:CEST
DTSTART:20200329T010000
END:DAYLIGHT
BEGIN:STANDARD
TZOFFSETFROM:+0200
TZOFFSETTO:+0100
TZNAME:CET
DTSTART:20201025T010000
END:STANDARD
BEGIN:DAYLIGHT
TZOFFSETFROM:+0100
TZOFFSETTO:+0200
TZNAME:CEST
DTSTART:20210328T010000
END:DAYLIGHT
BEGIN:STANDARD
TZOFFSETFROM:+0200
TZOFFSETTO:+0100
TZNAME:CET
DTSTART:20211031T010000
END:STANDARD
BEGIN:DAYLIGHT
TZOFFSETFROM:+0100
TZOFFSETTO:+0200
TZNAME:CEST
DTSTART:20220327T010000
END:DAYLIGHT
BEGIN:STANDARD
TZOFFSETFROM:+0200
TZOFFSETTO:+0100
TZNAME:CET
DTSTART:20221030T010000
END:STANDARD
END:VTIMEZONE
BEGIN:VEVENT
DTSTART;TZID=Europe/Berlin:20210510T100000
DTEND;TZID=Europe/Berlin:20210512T180000
DTSTAMP:20260421T174345
CREATED:20210509T122300Z
LAST-MODIFIED:20210509T122453Z
UID:1335-1620640800-1620842400@www.octogate.com
SUMMARY:didacta digital
DESCRIPTION:Vom 10. bis 12. Mai 2021 findet die didacta – die Bildungsmesse als Online-Event statt. Die Teilnahme an der didacta – die Bildungsmesse DIGITAL ist für BesucherInnen kostenlos. An drei Tagen finden Lehrerinnen und Lehrer\, Erzieherinnen und Erzieher\, Ausbilderinnen und Ausbilder\, Vertreterinnen und Vertreter aus Politik\, Wirtschaft und Wissenschaft\, Branchenexpertinnen und Branchenexperten sowie zahlreiche Aussteller im virtuellen Raum zusammen. \nAustausch und Wissenstransfer stehen an erster Stelle: Live-Vorträge\, Diskussionspanels\, Experten-Runden und Workshops bieten den Teilnehmenden spannende Impulse zu allen Bildungsbereichen und für die Nutzung digitaler Medien. \nHier können Sie sich kostenfrei anmelden.
URL:https://www.octogate.com/en_us/event/didacta-digital/
ORGANIZER;CN="Messe Stuttgart":MAILTO:info@messe-stuttgart.de
END:VEVENT
END:VCALENDAR