BEGIN:VCALENDAR
VERSION:2.0
PRODID:-//OctoGate - Einfach - Sicher - Geschützt - ECPv6.15.20//NONSGML v1.0//EN
CALSCALE:GREGORIAN
METHOD:PUBLISH
X-WR-CALNAME:OctoGate - Einfach - Sicher - Geschützt
X-ORIGINAL-URL:https://www.octogate.com/en_us
X-WR-CALDESC:Events for OctoGate - Einfach - Sicher - Geschützt
REFRESH-INTERVAL;VALUE=DURATION:PT1H
X-Robots-Tag:noindex
X-PUBLISHED-TTL:PT1H
BEGIN:VTIMEZONE
TZID:Europe/Berlin
BEGIN:DAYLIGHT
TZOFFSETFROM:+0100
TZOFFSETTO:+0200
TZNAME:CEST
DTSTART:20200329T010000
END:DAYLIGHT
BEGIN:STANDARD
TZOFFSETFROM:+0200
TZOFFSETTO:+0100
TZNAME:CET
DTSTART:20201025T010000
END:STANDARD
BEGIN:DAYLIGHT
TZOFFSETFROM:+0100
TZOFFSETTO:+0200
TZNAME:CEST
DTSTART:20210328T010000
END:DAYLIGHT
BEGIN:STANDARD
TZOFFSETFROM:+0200
TZOFFSETTO:+0100
TZNAME:CET
DTSTART:20211031T010000
END:STANDARD
BEGIN:DAYLIGHT
TZOFFSETFROM:+0100
TZOFFSETTO:+0200
TZNAME:CEST
DTSTART:20220327T010000
END:DAYLIGHT
BEGIN:STANDARD
TZOFFSETFROM:+0200
TZOFFSETTO:+0100
TZNAME:CET
DTSTART:20221030T010000
END:STANDARD
END:VTIMEZONE
BEGIN:VEVENT
DTSTART;TZID=Europe/Berlin:20210622T080000
DTEND;TZID=Europe/Berlin:20210624T170000
DTSTAMP:20260421T174335
CREATED:20210509T123244Z
LAST-MODIFIED:20210509T123244Z
UID:1345-1624348800-1624554000@www.octogate.com
SUMMARY:Learntec XChange
DESCRIPTION:Aufgrund des dynamischen Pandemieverlaufs kann die LEARNTEC 2021 nicht vor Ort stattfinden. Nichtsdestotrotz soll den Besuchern und Ausstellern zum ursprünglich geplanten Termin vom 22. bis 24. Juni 2021 eine Plattform zum Netzwerken und Erfahrungsaustausch angeboten werden\, denn die Relevanz digitaler Lösungen im Lern- und Arbeitsalltag steigt stetig. \nAn drei Tagen sind Webinare\, Online-Vorträge und Diskussionsrunden rund um die Digitalisierung der Lern- und Arbeitswelt geplant – mit aktuellen Themen\, die unter anderem auch in den Foren auf der Fachmesse aufgegriffen worden wären. Angeboten wird unter anderem ein Matchmaking\, das Teilnehmer\, Speaker und Aussteller je nach Interessen miteinander vernetzt. Über eine Chatfunktion und mittels Video-Calls können die Teilnehmer kommunizieren. Fachaustausch bieten auch die Diskussionsforen\, in denen sich Branchenkollegen getreu dem Motto „Get together“ zu beliebigen Fachthemen austauschen können. Zusätzlich zu dem umfangreichen Programm wird es eine hochwertige Onlinekonferenz mit Experten aus Wirtschaft und Wissenschaft geben. \nHier können Sie sich kostenfrei anmelden. \nBesuchen Sie auch unseren OctoGate Vortrag am 22.Juni um 12:00 Uhr. Wir sprechen rund um die Themen WLAN-Technologie\, BYOD-Einbindung\, Firewalling und andere Aspekte der Digitalisierung von Bildungseinrichtungen. Wir freuen uns auf Sie.
URL:https://www.octogate.com/en_us/event/learntec-xchange/
END:VEVENT
END:VCALENDAR