BEGIN:VCALENDAR
VERSION:2.0
PRODID:-//OctoGate - Einfach - Sicher - Geschützt - ECPv6.15.20//NONSGML v1.0//EN
CALSCALE:GREGORIAN
METHOD:PUBLISH
X-WR-CALNAME:OctoGate - Einfach - Sicher - Geschützt
X-ORIGINAL-URL:https://www.octogate.com
X-WR-CALDESC:Events for OctoGate - Einfach - Sicher - Geschützt
REFRESH-INTERVAL;VALUE=DURATION:PT1H
X-Robots-Tag:noindex
X-PUBLISHED-TTL:PT1H
BEGIN:VTIMEZONE
TZID:Europe/Berlin
BEGIN:DAYLIGHT
TZOFFSETFROM:+0100
TZOFFSETTO:+0200
TZNAME:CEST
DTSTART:20200329T010000
END:DAYLIGHT
BEGIN:STANDARD
TZOFFSETFROM:+0200
TZOFFSETTO:+0100
TZNAME:CET
DTSTART:20201025T010000
END:STANDARD
BEGIN:DAYLIGHT
TZOFFSETFROM:+0100
TZOFFSETTO:+0200
TZNAME:CEST
DTSTART:20210328T010000
END:DAYLIGHT
BEGIN:STANDARD
TZOFFSETFROM:+0200
TZOFFSETTO:+0100
TZNAME:CET
DTSTART:20211031T010000
END:STANDARD
BEGIN:DAYLIGHT
TZOFFSETFROM:+0100
TZOFFSETTO:+0200
TZNAME:CEST
DTSTART:20220327T010000
END:DAYLIGHT
BEGIN:STANDARD
TZOFFSETFROM:+0200
TZOFFSETTO:+0100
TZNAME:CET
DTSTART:20221030T010000
END:STANDARD
END:VTIMEZONE
BEGIN:VEVENT
DTSTART;TZID=Europe/Berlin:20211116T140000
DTEND;TZID=Europe/Berlin:20211116T160000
DTSTAMP:20260421T071444
CREATED:20211001T092702Z
LAST-MODIFIED:20211112T094658Z
UID:2465-1637071200-1637078400@www.octogate.com
SUMMARY:OctoGate Online-Workshop: Schuldigitalisierung
DESCRIPTION:Aus Erfahrung wissen wir\, dass die digitalen Nachzügler-Schulen den Digitalisierungsbedarf längst erkannt haben. Nur fehlt es oft an Know-How\, Ressourcen und stimmigen IT-Konzepten. Aus diesem Grund startet OctoGate wieder seine Online-Workshops\, um die Digitalisierung in Schulen voranzutreiben. Wir freuen uns auf Sie! \nHier geht es zur Anmeldung. \nDen Link zu unserem Online-Workshop erhalten Sie mit Ihrer Anmeldebestätigung. \nDie Agenda im Überblick:\n14:00 – 14:45     Was benötige ich bei der Schuldigitalisierung ? Von Hardware\, Infrastruktur und Software bis Datenschutz – es ergeben sich viele Fragen und Unsicherheiten. Wo bekomme ich Unterstützung? OctoGate klärt auf.\n14:45 – 15:15    Gastvortrag Herr Frommann von Weis iT-Systeme: Das digitale Klassenzimmer\, der Systempartner aus Ihrer Region! Kurzvorstellung des Baukastensystems für Ihr digitales Klassenzimmer\n15:15 – 15:45     In einem praxisorientierten Workshop besprechen wir anhand von Best-Practice Beispielen folgende Themen: Firewall\, Jugendschutz\, Virenschutz\, Datensicherheit\, WLAN\, Unterrichtssteuerung\, BYOD\, Gebäudeinfrastruktur sowie Schnittstellen zu bspw. Securon for Schools (Fujitsu)\, paedML (Land BW)\, NetMan for Schools (H+H Software GmbH)\, IServ\, timago\, snv (INL AG).\n15:45 – 16:00     Fragerunde / Teilnahmezertifikat
URL:https://www.octogate.com/event/octogate-online-workshop-schuldigitalisierung-2/
ORGANIZER;CN="OctoGate IT Security Systems GmbH":MAILTO:vertrieb@octogate.de
END:VEVENT
END:VCALENDAR