BEGIN:VCALENDAR
VERSION:2.0
PRODID:-//OctoGate - Einfach - Sicher - Geschützt - ECPv6.15.20//NONSGML v1.0//EN
CALSCALE:GREGORIAN
METHOD:PUBLISH
X-ORIGINAL-URL:https://www.octogate.com
X-WR-CALDESC:Events for OctoGate - Einfach - Sicher - Geschützt
REFRESH-INTERVAL;VALUE=DURATION:PT1H
X-Robots-Tag:noindex
X-PUBLISHED-TTL:PT1H
BEGIN:VTIMEZONE
TZID:Europe/Berlin
BEGIN:DAYLIGHT
TZOFFSETFROM:+0100
TZOFFSETTO:+0200
TZNAME:CEST
DTSTART:20210328T010000
END:DAYLIGHT
BEGIN:STANDARD
TZOFFSETFROM:+0200
TZOFFSETTO:+0100
TZNAME:CET
DTSTART:20211031T010000
END:STANDARD
BEGIN:DAYLIGHT
TZOFFSETFROM:+0100
TZOFFSETTO:+0200
TZNAME:CEST
DTSTART:20220327T010000
END:DAYLIGHT
BEGIN:STANDARD
TZOFFSETFROM:+0200
TZOFFSETTO:+0100
TZNAME:CET
DTSTART:20221030T010000
END:STANDARD
BEGIN:DAYLIGHT
TZOFFSETFROM:+0100
TZOFFSETTO:+0200
TZNAME:CEST
DTSTART:20230326T010000
END:DAYLIGHT
BEGIN:STANDARD
TZOFFSETFROM:+0200
TZOFFSETTO:+0100
TZNAME:CET
DTSTART:20231029T010000
END:STANDARD
END:VTIMEZONE
BEGIN:VEVENT
DTSTART;TZID=Europe/Berlin:20220406T080000
DTEND;TZID=Europe/Berlin:20220407T170000
DTSTAMP:20260420T233337
CREATED:20211203T101533Z
LAST-MODIFIED:20220331T064208Z
UID:2634-1649232000-1649350800@www.octogate.com
SUMMARY:SCHULBAU Frankfurt
DESCRIPTION:Die SCHULBAU – Internationaler Salon und Messe für den Bildungsbau ist europaweit die Messe\, die sich mit dem konkreten Investitionsvolumen für Schule\, Kita und Campus befasst. Im Topf sind derzeit mehr als 40 Milliarden Euro\, die bis zum Jahr 2030 ausgegeben werden müssen. \nDie SCHULBAU findet in Kooperation mit den jeweiligen öffentlichen und privaten Schulbauinvestoren statt. Der Salon bildet alle Bauaufgaben ab: Von pädagogischen und funktionalen Innenraumkonzepten über die Außenraumgestaltung bis hin zur Fassade. Begleitet wird die Veranstaltung von einem hochwertigen Programm\, das auf die jeweilige Region zugeschnitten ist. \nKommen Sie uns an Stand 32 besuchen. Wir freuen uns auf Sie. \nSie haben noch keine Tickets? Kein Problem\, wir haben kostenlose Besucherkarten für Sie! Melden Sie sich einfach bei unserem Vertriebsteam unter 05251 / 180 40 70 oder per Mail an vertrieb@octogate.de.
URL:https://www.octogate.com/event/schulbaufrankfurt/
LOCATION:myticket Jahrhunderthalle\, Pfaffenwiese 301\, Frankfurt am Main\, 65929
END:VEVENT
END:VCALENDAR