BEGIN:VCALENDAR
VERSION:2.0
PRODID:-//OctoGate - Einfach - Sicher - Geschützt - ECPv6.15.20//NONSGML v1.0//EN
CALSCALE:GREGORIAN
METHOD:PUBLISH
X-WR-CALNAME:OctoGate - Einfach - Sicher - Geschützt
X-ORIGINAL-URL:https://www.octogate.com
X-WR-CALDESC:Events for OctoGate - Einfach - Sicher - Geschützt
REFRESH-INTERVAL;VALUE=DURATION:PT1H
X-Robots-Tag:noindex
X-PUBLISHED-TTL:PT1H
BEGIN:VTIMEZONE
TZID:Europe/Berlin
BEGIN:DAYLIGHT
TZOFFSETFROM:+0100
TZOFFSETTO:+0200
TZNAME:CEST
DTSTART:20210328T010000
END:DAYLIGHT
BEGIN:STANDARD
TZOFFSETFROM:+0200
TZOFFSETTO:+0100
TZNAME:CET
DTSTART:20211031T010000
END:STANDARD
BEGIN:DAYLIGHT
TZOFFSETFROM:+0100
TZOFFSETTO:+0200
TZNAME:CEST
DTSTART:20220327T010000
END:DAYLIGHT
BEGIN:STANDARD
TZOFFSETFROM:+0200
TZOFFSETTO:+0100
TZNAME:CET
DTSTART:20221030T010000
END:STANDARD
BEGIN:DAYLIGHT
TZOFFSETFROM:+0100
TZOFFSETTO:+0200
TZNAME:CEST
DTSTART:20230326T010000
END:DAYLIGHT
BEGIN:STANDARD
TZOFFSETFROM:+0200
TZOFFSETTO:+0100
TZNAME:CET
DTSTART:20231029T010000
END:STANDARD
END:VTIMEZONE
BEGIN:VEVENT
DTSTART;TZID=Europe/Berlin:20220503T090000
DTEND;TZID=Europe/Berlin:20220504T160000
DTSTAMP:20260420T205033
CREATED:20220216T125334Z
LAST-MODIFIED:20220308T093751Z
UID:2757-1651568400-1651680000@www.octogate.com
SUMMARY:OctoGate Advanced Zertifizierung
DESCRIPTION:Mit der Advanced Zertifizierung bietet OctoGate eine 2-tägige technische Schulung für die Zertifizierung als Advanced Certified Engineer. Die Zertifizierungsschulung ist Teil unseres Fachhändler Partnerprogramms und richtet sich an Techniker oder Mitarbeiter mit technischen Grundkenntnissen. \nDie Schulung findet an zwei aufeinanderfolgenden Tagen jeweils von 09:00 – 16:00 Uhr statt. Folgende Themenschwerpunkte werden in dieser Zeit erörtert: \n– Vertriebs-/Produktschulung\n– Inbetriebnahme von Firewall VM und Hardware\n– Inbetriebnahme von WLAN Access Points\n– Konfiguration der Netze\n– Grundlegende Konfiguration (WebGUI)\n– Troubleshooting \nIm Anschluss der Schulung erfolgt eine theoretische Prüfung. Nach erfolgreichem Bestehen wird den Teilnehmern das Advanced Certified Engineer Zertifikat zugesendet. Das Zertifikat besitzt eine Gültigkeit von 24 Monaten. \nDDie Teilnahmegebühren belaufen sich auf 649\,00 € pro Teilnehmer (exkl. MwSt.). Die Anmeldung ist verbindlich und Voraussetzung für die Teilnahme an der Schulung. \nHier geht es zur verbindlichen Anmeldung. \nDen Link zu unserer Online-Schulung erhalten Sie mit Ihrer Anmeldebestätigung.
URL:https://www.octogate.com/event/octogate-advanced-zertifizierung-mai/
CATEGORIES:Schulung
ORGANIZER;CN="OctoGate IT Security Systems GmbH":MAILTO:vertrieb@octogate.de
END:VEVENT
BEGIN:VEVENT
DTSTART;TZID=Europe/Berlin:20220505T080000
DTEND;TZID=Europe/Berlin:20220505T170000
DTSTAMP:20260420T205033
CREATED:20220310T120452Z
LAST-MODIFIED:20220407T094956Z
UID:2797-1651737600-1651770000@www.octogate.com
SUMMARY:EPE Education Partner Event 2022
DESCRIPTION:Mit dem DigitalPakt Schule ist 2019 der Startschuss für Investitionen in Milliardenhöhe für Digitalisierung der deutschen Schulen gefallen. Als Plattform zur Präsentation umfangreicher Lösungen für das digitale Klassenzimmer werden wir mit unseren Partner umfassend über digitale Lösungen und Dienstleistungen informieren.
URL:https://www.octogate.com/event/epe-education-partner-event-2022/
LOCATION:Club Central\, Am Wasserturm 8-10\, Erfurt\, Thüringen\, 99085
CATEGORIES:Messe
END:VEVENT
BEGIN:VEVENT
DTSTART;TZID=Europe/Berlin:20220517T090000
DTEND;TZID=Europe/Berlin:20220518T170000
DTSTAMP:20260420T205033
CREATED:20220317T134326Z
LAST-MODIFIED:20220317T134326Z
UID:2805-1652778000-1652893200@www.octogate.com
SUMMARY:Univention Summit 2022
DESCRIPTION:Der Univention Summit ist mittlerweile das bedeutendste Open Source Event Deutschlands. Vorträge international bekannter Keynote Speaker\, IT-Verantwortlicher großer Organisationen\, von Technik-Experten sowie Entscheidern aus Wirtschaft\, Politik und dem Bildungssektor sorgen für eine abwechslungsreiche Agenda. Für den direkten Austausch werden Podiumsdiskussionen\, Workshops\, Themen-Roundtables\, ein Techniker- Barcamp und eine Sponsoren-Ausstellung angeboten. Der Univention Summit 2022 wird hybrid am 17. und 18. Mai 2022 stattfinden.
URL:https://www.octogate.com/event/univention-summit-2022/
LOCATION:Metropol Theater Bremen\, Richtweg 7\, Bremen\, 28195\, Deutschland
END:VEVENT
BEGIN:VEVENT
DTSTART;TZID=Europe/Berlin:20220531T080000
DTEND;TZID=Europe/Berlin:20220602T170000
DTSTAMP:20260420T205033
CREATED:20220204T093937Z
LAST-MODIFIED:20220518T140724Z
UID:2725-1653984000-1654189200@www.octogate.com
SUMMARY:LEARNTEC
DESCRIPTION:Sie suchen nach digitalen Lerntrends? Dann sind Sie auf der LEARNTEC genau richtig! Ob Mobile Learning\, Lern-Nuggets\, Gamification oder Virtual Reality – E-Learning ist mehr denn je Bestandteil von ganzheitlichen Bildungskonzepten. \nDie Integration des technologiegestützten Lernens in Unternehmensprozesse\, in der schulischen oder der Hochschulbildung ist unaufhaltsam und die wachsende Bedeutung von digitaler Bildung spiegelt sich im Rahmen der Fachmesse und des europaweit renommierten Kongresses deutlich wider. Hier treffen sich zum 29. Mal die Bildungsexperten und Entscheider aller Wirtschaftsbranchen sowie öffentlicher Träger. \nAuch wir von OctoGate sind mit unserer Schulfirewall wieder mit dabei. Kommen Sie uns auf dem Gemeinschaftsstand des Bündnis für Bildung besuchen. Hier finden Sie uns: dm-arena R30.7. Wir freuen uns aus Sie. \nVereinbaren Sie jetzt einen Termin mit uns – selbstverständlich bieten wir Ihnen dafür kostenlose Besucherkarten! Melden Sie sich einfach bei unserem Vertriebsteam unter 05251 / 180 40 70 oder per Mail an vertrieb@octogate.de.
URL:https://www.octogate.com/event/learntec/
LOCATION:Messe Karlsruhe\, Messeallee 1\, Rheinstetten\, 76287
END:VEVENT
END:VCALENDAR