BEGIN:VCALENDAR
VERSION:2.0
PRODID:-//OctoGate - Einfach - Sicher - Geschützt - ECPv6.15.20//NONSGML v1.0//EN
CALSCALE:GREGORIAN
METHOD:PUBLISH
X-WR-CALNAME:OctoGate - Einfach - Sicher - Geschützt
X-ORIGINAL-URL:https://www.octogate.com
X-WR-CALDESC:Events for OctoGate - Einfach - Sicher - Geschützt
REFRESH-INTERVAL;VALUE=DURATION:PT1H
X-Robots-Tag:noindex
X-PUBLISHED-TTL:PT1H
BEGIN:VTIMEZONE
TZID:Europe/Berlin
BEGIN:DAYLIGHT
TZOFFSETFROM:+0100
TZOFFSETTO:+0200
TZNAME:CEST
DTSTART:20210328T010000
END:DAYLIGHT
BEGIN:STANDARD
TZOFFSETFROM:+0200
TZOFFSETTO:+0100
TZNAME:CET
DTSTART:20211031T010000
END:STANDARD
BEGIN:DAYLIGHT
TZOFFSETFROM:+0100
TZOFFSETTO:+0200
TZNAME:CEST
DTSTART:20220327T010000
END:DAYLIGHT
BEGIN:STANDARD
TZOFFSETFROM:+0200
TZOFFSETTO:+0100
TZNAME:CET
DTSTART:20221030T010000
END:STANDARD
BEGIN:DAYLIGHT
TZOFFSETFROM:+0100
TZOFFSETTO:+0200
TZNAME:CEST
DTSTART:20230326T010000
END:DAYLIGHT
BEGIN:STANDARD
TZOFFSETFROM:+0200
TZOFFSETTO:+0100
TZNAME:CET
DTSTART:20231029T010000
END:STANDARD
END:VTIMEZONE
BEGIN:VEVENT
DTSTART;TZID=Europe/Berlin:20220531T080000
DTEND;TZID=Europe/Berlin:20220602T170000
DTSTAMP:20260420T191412
CREATED:20220204T093937Z
LAST-MODIFIED:20220518T140724Z
UID:2725-1653984000-1654189200@www.octogate.com
SUMMARY:LEARNTEC
DESCRIPTION:Sie suchen nach digitalen Lerntrends? Dann sind Sie auf der LEARNTEC genau richtig! Ob Mobile Learning\, Lern-Nuggets\, Gamification oder Virtual Reality – E-Learning ist mehr denn je Bestandteil von ganzheitlichen Bildungskonzepten. \nDie Integration des technologiegestützten Lernens in Unternehmensprozesse\, in der schulischen oder der Hochschulbildung ist unaufhaltsam und die wachsende Bedeutung von digitaler Bildung spiegelt sich im Rahmen der Fachmesse und des europaweit renommierten Kongresses deutlich wider. Hier treffen sich zum 29. Mal die Bildungsexperten und Entscheider aller Wirtschaftsbranchen sowie öffentlicher Träger. \nAuch wir von OctoGate sind mit unserer Schulfirewall wieder mit dabei. Kommen Sie uns auf dem Gemeinschaftsstand des Bündnis für Bildung besuchen. Hier finden Sie uns: dm-arena R30.7. Wir freuen uns aus Sie. \nVereinbaren Sie jetzt einen Termin mit uns – selbstverständlich bieten wir Ihnen dafür kostenlose Besucherkarten! Melden Sie sich einfach bei unserem Vertriebsteam unter 05251 / 180 40 70 oder per Mail an vertrieb@octogate.de.
URL:https://www.octogate.com/event/learntec/
LOCATION:Messe Karlsruhe\, Messeallee 1\, Rheinstetten\, 76287
END:VEVENT
BEGIN:VEVENT
DTSTART;TZID=Europe/Berlin:20220607T080000
DTEND;TZID=Europe/Berlin:20220611T170000
DTSTAMP:20260420T191412
CREATED:20211203T101306Z
LAST-MODIFIED:20220518T140803Z
UID:2630-1654588800-1654966800@www.octogate.com
SUMMARY:didacta - Die Bildungsmesse
DESCRIPTION:Die „didacta – die Bildungsmesse“ ist die größte Fachmesse für Lehrkräfte aller Bildungsbereiche in Europa und die wichtigste Weiterbildungsveranstaltung der Branche. Über 900 Aussteller aus 53 Ländern zeigten 2019 in Köln ihre Angebote aus den Bereichen vorschulische Erziehung und Grundschule\, Schule und Hochschule\, neue Technologien\, berufliche Bildung und Qualifizierung\, Ministerien\, Institutionen\, Organisationen. \nAuch wir von OctoGate sind mit unserer Schulfirewall wieder mit dabei. Kommen Sie uns auf dem Gemeinschaftsstand des Bündnis für Bildung besuchen. Sie finden uns in der Halle 6.1 an Stand B029. Wir freuen uns auf Sie. \nVereinbaren Sie jetzt einen Termin mit uns – selbstverständlich bieten wir Ihnen dafür kostenlose Besucherkarten!  Melden Sie sich einfach bei unserem Vertriebsteam unter 05251 / 180 40 70 oder per Mail an vertrieb@octogate.de.
URL:https://www.octogate.com/event/didacta-die-bildungsmesse/
LOCATION:Koelnmesse GmbH\, Messeplatz 1\, Köln\, 50679
END:VEVENT
BEGIN:VEVENT
DTSTART;TZID=Europe/Berlin:20220615T130000
DTEND;TZID=Europe/Berlin:20220615T140000
DTSTAMP:20260420T191412
CREATED:20220209T085006Z
LAST-MODIFIED:20220215T134557Z
UID:2745-1655298000-1655301600@www.octogate.com
SUMMARY:Vertrieb von OctoGate IT-Schullösungen – Das Webinar für Fachhändler
DESCRIPTION:Onboarding für neue Fachhändler – In diesem Webinar bespricht und diskutiert unser Geschäftsführer Herr Menne mit den Teilnehmern fachhändlerspezifische Themen wie Technologien\, Konditionen und unsere Philosophie. \nDer Vortrag dauert 30 Minuten. Anschließend haben Sie ausreichend Zeit um Fragen zu stellen oder sich an Diskussionen zu beteiligen. Im Nachgang der Veranstaltung erhalten Sie einen persönlichen Teilnahmenachweis\, in Form eines druckbaren PDF-Dokuments\, von uns. \nHier geht es zur Anmeldung. \nDen Link zu unserem Online-Webinar erhalten Sie mit Ihrer Anmeldebestätigung.
URL:https://www.octogate.com/event/onboarding-fachhaendler-15-06/
CATEGORIES:Webinar
ORGANIZER;CN="OctoGate IT Security Systems GmbH":MAILTO:vertrieb@octogate.de
END:VEVENT
END:VCALENDAR