BEGIN:VCALENDAR
VERSION:2.0
PRODID:-//OctoGate - Einfach - Sicher - Geschützt - ECPv6.15.20//NONSGML v1.0//EN
CALSCALE:GREGORIAN
METHOD:PUBLISH
X-WR-CALNAME:OctoGate - Einfach - Sicher - Geschützt
X-ORIGINAL-URL:https://www.octogate.com
X-WR-CALDESC:Events for OctoGate - Einfach - Sicher - Geschützt
REFRESH-INTERVAL;VALUE=DURATION:PT1H
X-Robots-Tag:noindex
X-PUBLISHED-TTL:PT1H
BEGIN:VTIMEZONE
TZID:Europe/Berlin
BEGIN:DAYLIGHT
TZOFFSETFROM:+0100
TZOFFSETTO:+0200
TZNAME:CEST
DTSTART:20210328T010000
END:DAYLIGHT
BEGIN:STANDARD
TZOFFSETFROM:+0200
TZOFFSETTO:+0100
TZNAME:CET
DTSTART:20211031T010000
END:STANDARD
BEGIN:DAYLIGHT
TZOFFSETFROM:+0100
TZOFFSETTO:+0200
TZNAME:CEST
DTSTART:20220327T010000
END:DAYLIGHT
BEGIN:STANDARD
TZOFFSETFROM:+0200
TZOFFSETTO:+0100
TZNAME:CET
DTSTART:20221030T010000
END:STANDARD
BEGIN:DAYLIGHT
TZOFFSETFROM:+0100
TZOFFSETTO:+0200
TZNAME:CEST
DTSTART:20230326T010000
END:DAYLIGHT
BEGIN:STANDARD
TZOFFSETFROM:+0200
TZOFFSETTO:+0100
TZNAME:CET
DTSTART:20231029T010000
END:STANDARD
END:VTIMEZONE
BEGIN:VEVENT
DTSTART;TZID=Europe/Berlin:20220906T090000
DTEND;TZID=Europe/Berlin:20220907T160000
DTSTAMP:20260420T144951
CREATED:20220216T125531Z
LAST-MODIFIED:20220822T122340Z
UID:2760-1662454800-1662566400@www.octogate.com
SUMMARY:OctoGate Advanced Zertifizierung
DESCRIPTION:— Verschoben. Ein neuer Termin wird rechtzeitig bekannt gegeben. — \nMit der Advanced Zertifizierung bietet OctoGate eine 2-tägige technische Schulung für die Zertifizierung als Advanced Certified Engineer. Die Zertifizierungsschulung ist Teil unseres Fachhändler Partnerprogramms und richtet sich an Techniker oder Mitarbeiter mit technischen Grundkenntnissen. \nDie Schulung findet an zwei aufeinanderfolgenden Tagen jeweils von 09:00 – 16:00 Uhr statt. Folgende Themenschwerpunkte werden in dieser Zeit erörtert: \n– Vertriebs-/Produktschulung\n– Inbetriebnahme von Firewall VM und Hardware\n– Inbetriebnahme von WLAN Access Points\n– Konfiguration der Netze\n– Grundlegende Konfiguration (WebGUI)\n– Troubleshooting \nIm Anschluss der Schulung erfolgt eine theoretische Prüfung. Nach erfolgreichem Bestehen wird den Teilnehmern das Advanced Certified Engineer Zertifikat zugesendet. Das Zertifikat besitzt eine Gültigkeit von 24 Monaten. \nDie Teilnahmegebühren belaufen sich auf 649\,00 € pro Teilnehmer (exkl. MwSt.). Die Anmeldung ist verbindlich und Voraussetzung für die Teilnahme an der Schulung. \nDen Link zu unserer Online-Schulung erhalten Sie mit Ihrer Anmeldebestätigung.
URL:https://www.octogate.com/event/octogate-advanced-zertifizierung-sep/
CATEGORIES:Schulung
ORGANIZER;CN="OctoGate IT Security Systems GmbH":MAILTO:vertrieb@octogate.de
END:VEVENT
BEGIN:VEVENT
DTSTART;TZID=Europe/Berlin:20220914T100000
DTEND;TZID=Europe/Berlin:20220914T110000
DTSTAMP:20260420T144951
CREATED:20220209T085053Z
LAST-MODIFIED:20220707T072810Z
UID:2747-1663149600-1663153200@www.octogate.com
SUMMARY:Vertrieb von OctoGate IT-Schullösungen – Das Webinar für Fachhändler
DESCRIPTION:Onboarding für neue Fachhändler – In diesem Webinar bespricht und diskutiert unser Geschäftsführer Herr Menne mit den Teilnehmern fachhändlerspezifische Themen wie Technologien\, Konditionen und unsere Philosophie. \nDer Vortrag dauert 30 Minuten. Anschließend haben Sie ausreichend Zeit um Fragen zu stellen oder sich an Diskussionen zu beteiligen. Im Nachgang der Veranstaltung erhalten Sie einen persönlichen Teilnahmenachweis\, in Form eines druckbaren PDF-Dokuments\, von uns. \nHier geht es zur Anmeldung. \nDen Link zu unserem Online-Webinar erhalten Sie mit Ihrer Anmeldebestätigung.
URL:https://www.octogate.com/event/onboarding-fachhaendler-14-09/
CATEGORIES:Webinar
ORGANIZER;CN="OctoGate IT Security Systems GmbH":MAILTO:vertrieb@octogate.de
END:VEVENT
BEGIN:VEVENT
DTSTART;VALUE=DATE:20220922
DTEND;VALUE=DATE:20220923
DTSTAMP:20260420T144951
CREATED:20220513T123129Z
LAST-MODIFIED:20220513T123129Z
UID:2932-1663804800-1663891199@www.octogate.com
SUMMARY:BILDUNG.digital Erfurt
DESCRIPTION:Kaum ein anderes Thema wird derzeit so intensiv diskutiert\, wie die anstehende Digitalisierung in den Schulen und Bildungseinrichtungen. Die BILDUNG.digital – als Kombination aus Messe und Kongress – greift deshalb den daraus entstehenden Bedarf auf und bietet den Teilnehmenden zudem Lösungsvorschläge mit konkreten Fallbeispielen und Erfahrungsberichten. \nAuch wir von OctoGate sind mit unserer Schulfirewall wieder mit dabei. Kommen Sie uns an unserem Stand A-03 besuchen. Wir freuen uns auf Sie.
URL:https://www.octogate.com/event/bildung-digital-erfurt/
LOCATION:Parksaal und Tagungsräume im Steigerwaldstadion Erfurt\, Mozartallee 3\, Erfurt\, 99096\, Deutschland
CATEGORIES:Messe
END:VEVENT
END:VCALENDAR